BEGIN:VCALENDAR
VERSION:2.0
PRODID:-//Squarespace Inc/Squarespace 6//v6//EN
BEGIN:VEVENT
UID:58e527a6e3df2880182e60e9@squarespace.com
DTSTAMP:20170502T201503Z
DTSTART:20170504T093000Z
DTEND:20170504T113000Z
SUMMARY:Booked Out
END:VEVENT
END:VCALENDAR
