BEGIN:VCALENDAR
VERSION:2.0
PRODID:-//Squarespace Inc/Squarespace 6//v6//EN
BEGIN:VEVENT
UID:5908e8253a0411b8fe9a55f4@squarespace.com
DTSTAMP:20170623T194717Z
DTSTART:20170629T093000Z
DTEND:20170629T113000Z
SUMMARY:Baby Nutrition - Balbriggan\, Booked out.
END:VEVENT
END:VCALENDAR
