BEGIN:VCALENDAR
VERSION:2.0
PRODID:-//Squarespace Inc/Squarespace 6//v6//EN
BEGIN:VEVENT
UID:5908eaae5016e17b2282f7e0@squarespace.com
DTSTAMP:20170706T204209Z
DTSTART:20170713T093000Z
DTEND:20170713T113000Z
SUMMARY:Baby Nutrition - Booked Out.
END:VEVENT
END:VCALENDAR
