BEGIN:VCALENDAR
VERSION:2.0
PRODID:-//Squarespace Inc/Squarespace 6//v6//EN
BEGIN:VEVENT
UID:595ea10ae58c62dce01cb297@squarespace.com
DTSTAMP:20170805T115646Z
DTSTART:20170817T093000Z
DTEND:20170817T120000Z
SUMMARY:Baby Nutrition\, Balbriggan.
END:VEVENT
END:VCALENDAR
