BEGIN:VCALENDAR
VERSION:2.0
PRODID:-//Squarespace Inc/Squarespace 6//v6//EN
BEGIN:VEVENT
UID:5985b2cfe58c62df093d6b4d@squarespace.com
DTSTAMP:20171022T215036Z
DTSTART:20171109T103000Z
DTEND:20171109T133000Z
SUMMARY:Baby Nutrition\, Dundrum
GEO:53.287931;-6.235076
LOCATION:Airfield Estate
END:VEVENT
END:VCALENDAR
