BEGIN:VCALENDAR
VERSION:2.0
PRODID:-//Squarespace Inc/Squarespace 6//v6//EN
BEGIN:VEVENT
UID:588280cd29687ff6b9cdb287@squarespace.com
DTSTAMP:20170518T095458Z
DTSTART:20170601T093000Z
DTEND:20170601T120000Z
SUMMARY:Baby Nutrition - Airfield Estate\, Dundrum\, 5 places left
GEO:53.289166;-6.233647
LOCATION:Airfield estate\, Kilmacud Rd Upper\, Dublin\, County Dublin\, Ire
 land
END:VEVENT
END:VCALENDAR
