BEGIN:VCALENDAR
VERSION:2.0
PRODID:-//Squarespace Inc/Squarespace 6//v6//EN
BEGIN:VEVENT
UID:588281676a496304584527c8@squarespace.com
DTSTAMP:20170405T172001Z
DTSTART:20170406T093000Z
DTEND:20170406T113000Z
SUMMARY:Baby Nutrition Class.
GEO:53.287931;-6.235076
LOCATION:weaning.ie\, Airfield Estate\, Dundrum.
END:VEVENT
END:VCALENDAR
